BEGIN:VCALENDAR
VERSION:2.0
PRODID:-//The German Association of Postgraduate Programmes
CALSCALE:GREGORIAN
METHOD:PUBLISH
X-WR-CALNAME:The German Association of Postgraduate Programmes
X-ORIGINAL-URL:https://agep-info.de/event/water-week-blue-carbon-plastic-litter-and-technology-for-circular-economy/
X-WR-CALDESC:Water Week: Blue Carbon, Plastic Litter and Technology for Circular Economy
BEGIN:VEVENT
DTSTART:20240226T000000
DTEND:20240301T000000
SUMMARY:Water Week: Blue Carbon, Plastic Litter and Technology for Circular Economy
DESCRIPTION:The course is designed for doctoral students of BIGS-DR and BIGS Land and Food (University of Bonn), Master's students of ARTS (Agricultural Sciences and Resource Management in the Tropics and Subtropics, University of Bonn), Geography of Environmental Risks and Human Security (UNU-EHS) and (doctoral) students from programs being part of the German Association of Postgraduate Programmes (AGEP).
The number of participants is limited to 15.
LOCATION:
END:VEVENT
END:VCALENDAR
