BEGIN:VCALENDAR
VERSION:2.0
PRODID:-//The German Association of Postgraduate Programmes
CALSCALE:GREGORIAN
METHOD:PUBLISH
X-WR-CALNAME:The German Association of Postgraduate Programmes
X-ORIGINAL-URL:https://agep-info.de/event/arts-seminar-series-summer-term-water-food-energy-nexus/
X-WR-CALDESC:ARTS seminar series summer term: Water-Food-Energy Nexus
BEGIN:VEVENT
DTSTART:20210422T170000
DTEND:20210422T180000
SUMMARY:ARTS seminar series summer term: Water-Food-Energy Nexus
DESCRIPTION:Agricultural Sciences and Resource Managament in the Tropics and Subtropics (ARTS) /

 Seminar series summer term 2021:

"Energy Challenges in international Resources Management" / 

15.04.2021 - 15.07.2021 /

Thursday - 17:00 - 18:00 h /

University of Bonn
LOCATION:
END:VEVENT
END:VCALENDAR
