BEGIN:VCALENDAR
VERSION:2.0
PRODID:-//The German Association of Postgraduate Programmes
CALSCALE:GREGORIAN
METHOD:PUBLISH
X-WR-CALNAME:The German Association of Postgraduate Programmes
X-ORIGINAL-URL:https://agep-info.de/event/launch-event-mooc-on-nature-based-solutions-for-disaster-and-climate-resilience/
X-WR-CALDESC:Launch-Event: MOOC on &#8220;Nature-based Solutions for Disaster and Climate Resilience&#8221;
BEGIN:VEVENT
DTSTART:20210122T133000
DTEND:20210122T173000
SUMMARY:Launch-Event: MOOC on &#8220;Nature-based Solutions for Disaster and Climate Resilience&#8221;
DESCRIPTION:MOOC on "Nature-based Solutions for Disaster and Climate Resilience"
LOCATION:
END:VEVENT
END:VCALENDAR
