BEGIN:VCALENDAR
VERSION:2.0
PRODID:-//The German Association of Postgraduate Programmes
CALSCALE:GREGORIAN
METHOD:PUBLISH
X-WR-CALNAME:The German Association of Postgraduate Programmes
X-ORIGINAL-URL:https://agep-info.de/event/arts-seminar-series-sdg11-sustainable-cities-and-communities/
X-WR-CALDESC:CANCELLED &#8211; ARTS seminar series : &#8220;SDG11: Sustainable cities and communities&#8221;
BEGIN:VEVENT
DTSTART:20210128T170000
DTEND:20210128T180000
SUMMARY:CANCELLED &#8211; ARTS seminar series : &#8220;SDG11: Sustainable cities and communities&#8221;
DESCRIPTION:Agricultural Sciences and Resource Managament in the Tropics and Subtropics (ARTS) /

 Seminar series winter term 2020/2021:

"The Sustainable Development Goals: Case studies & operationalization". / 

12.11.2020 - 11.02.2021 /

Every Thursday - 17:00 - 18:00 h /

University of Bonn
LOCATION:
END:VEVENT
END:VCALENDAR
