BEGIN:VCALENDAR
VERSION:2.0
PRODID:-//The German Association of Postgraduate Programmes
CALSCALE:GREGORIAN
METHOD:PUBLISH
X-WR-CALNAME:The German Association of Postgraduate Programmes
X-ORIGINAL-URL:https://agep-info.de/event/voiture-idea-competition-2020/
X-WR-CALDESC:VOITURE: Idea Competition 2020
BEGIN:VEVENT
DTSTART:
DTEND:
SUMMARY:VOITURE: Idea Competition 2020
DESCRIPTION:
LOCATION:
END:VEVENT
END:VCALENDAR
