BEGIN:VCALENDAR
VERSION:2.0
PRODID:-//The German Association of Postgraduate Programmes
CALSCALE:GREGORIAN
METHOD:PUBLISH
X-WR-CALNAME:The German Association of Postgraduate Programmes
X-ORIGINAL-URL:https://agep-info.de/event/water-security-assessment-and-sdgs/
X-WR-CALDESC:Water Security Assessment and SDG&#8217;s
BEGIN:VEVENT
DTSTART:20200528T170000
DTEND:20200528T181500
SUMMARY:Water Security Assessment and SDG&#8217;s
DESCRIPTION:14.05.2020   -  Online Ringvorlesung  at University of Bonn, ARTS programme
LOCATION:
END:VEVENT
END:VCALENDAR
