BEGIN:VCALENDAR
VERSION:2.0
PRODID:-//The German Association of Postgraduate Programmes
CALSCALE:GREGORIAN
METHOD:PUBLISH
X-WR-CALNAME:The German Association of Postgraduate Programmes
X-ORIGINAL-URL:https://agep-info.de/event/online-workshop-project-monitoring-and-reporting-introduction-to-geographic-methods-using-open-source-software/
X-WR-CALDESC:Online Workshop “Project Monitoring and Reporting: Introduction to Geographic Methods using Open-Source Software”
BEGIN:VEVENT
DTSTART:20200624T000000
DTEND:20200710T000000
SUMMARY:Online Workshop “Project Monitoring and Reporting: Introduction to Geographic Methods using Open-Source Software”
DESCRIPTION:Apply here: https://lnkd.in/eXe9DHS

LOCATION:
END:VEVENT
END:VCALENDAR
