BEGIN:VCALENDAR
VERSION:2.0
PRODID:-//The German Association of Postgraduate Programmes
CALSCALE:GREGORIAN
METHOD:PUBLISH
X-WR-CALNAME:The German Association of Postgraduate Programmes
X-ORIGINAL-URL:https://agep-info.de/event/newave-research-on-water-governance/
X-WR-CALDESC:NEWAVE &#8211; Research on Water Governance
BEGIN:VEVENT
DTSTART:
DTEND:
SUMMARY:NEWAVE &#8211; Research on Water Governance
DESCRIPTION:13 PhD positions in Water Governance. Apply Now. Extended Deadline, 24 May 2020: 
https://lnkd.in/gxehSBf
LOCATION:
END:VEVENT
END:VCALENDAR
