BEGIN:VCALENDAR
VERSION:2.0
PRODID:-//The German Association of Postgraduate Programmes
CALSCALE:GREGORIAN
METHOD:PUBLISH
X-WR-CALNAME:The German Association of Postgraduate Programmes
X-ORIGINAL-URL:https://agep-info.de/event/webinar-smallholder-teak-agroforestry-systems/
X-WR-CALDESC:Webinar &#8220;Smallholder Teak Agroforestry Systems&#8221;
BEGIN:VEVENT
DTSTART:20190709T100000
DTEND:20190709T113000
SUMMARY:Webinar &#8220;Smallholder Teak Agroforestry Systems&#8221;
DESCRIPTION:Webinar on Smallholder Teak Agroforestry Systems on Tuesday, 9 July 2019.
LOCATION:
END:VEVENT
END:VCALENDAR
