BEGIN:VCALENDAR
VERSION:2.0
PRODID:-//The German Association of Postgraduate Programmes
CALSCALE:GREGORIAN
METHOD:PUBLISH
X-WR-CALNAME:The German Association of Postgraduate Programmes
X-ORIGINAL-URL:https://agep-info.de/event/sutrofor-spring-school-preparing-field-work-in-the-tropics/
X-WR-CALDESC:SUTROFOR Spring School &#8220;Preparing Field Work in the Tropics&#8221;
BEGIN:VEVENT
DTSTART:20190305T080000
DTEND:20190319T180000
SUMMARY:SUTROFOR Spring School &#8220;Preparing Field Work in the Tropics&#8221;
DESCRIPTION:Spring School on "Preparing Field Work in the Tropics" in Pokhara, Nepal, 5-19 March 2019. Organized by the MSc Programme "Tropical Forestry and Management" at TU Dresden, in collaboration with SUTROFOR partner universities.
LOCATION:
END:VEVENT
END:VCALENDAR
