BEGIN:VCALENDAR
VERSION:2.0
PRODID:-//The German Association of Postgraduate Programmes
CALSCALE:GREGORIAN
METHOD:PUBLISH
X-WR-CALNAME:The German Association of Postgraduate Programmes
X-ORIGINAL-URL:https://agep-info.de/event/webinar-deforestation-and-redd-with-examples-from-the-amazon-region-of-brazil/
X-WR-CALDESC:Webinar „Deforestation and REDD+ with examples from the Amazon region of Brazil “
BEGIN:VEVENT
DTSTART:20181207T140000
DTEND:20181207T154500
SUMMARY:Webinar „Deforestation and REDD+ with examples from the Amazon region of Brazil “
DESCRIPTION:In this Webinar the scientist Philip M. Fearnside from the Instituto Nacional de Pesquisas da Amazônia – INPA, Manaus will share his experience on „Deforestation and REDD+ with examples from the Amazon region of Brazil".
LOCATION:
END:VEVENT
END:VCALENDAR
