BEGIN:VCALENDAR
VERSION:2.0
PRODID:-//The German Association of Postgraduate Programmes
CALSCALE:GREGORIAN
METHOD:PUBLISH
X-WR-CALNAME:The German Association of Postgraduate Programmes
X-ORIGINAL-URL:https://agep-info.de/event/webinar-bamboo-production-a-challenge-for-timber-in-vietnam/
X-WR-CALDESC:Webinar „Bamboo production &#8211; a challenge for timber in Vietnam “
BEGIN:VEVENT
DTSTART:20181116T080000
DTEND:20181116T094500
SUMMARY:Webinar „Bamboo production &#8211; a challenge for timber in Vietnam “
DESCRIPTION:In this Webinar the scientist Assoc. Prof. Dr. Le Xuan Phuong from the Vietnam National University of Forestry, Hanoi will share his first-hand experience on bamboo production as a challenge for timber in Vietnam.
LOCATION:
END:VEVENT
END:VCALENDAR
