BEGIN:VCALENDAR
VERSION:2.0
PRODID:-//The German Association of Postgraduate Programmes
CALSCALE:GREGORIAN
METHOD:PUBLISH
X-WR-CALNAME:The German Association of Postgraduate Programmes
X-ORIGINAL-URL:https://agep-info.de/event/agep-simulation-game-beyond-paris-what-future-for-international-climate-policy-2/
X-WR-CALDESC:AGEP Simulation Game „Beyond Paris &#8211; What Future for International Climate Policy”
BEGIN:VEVENT
DTSTART:20180421T000000
DTEND:20180421T000000
SUMMARY:AGEP Simulation Game „Beyond Paris &#8211; What Future for International Climate Policy”
DESCRIPTION:
LOCATION:WATENV, Institute of Hydrology and Water Resources Management, Appelstr. 9A, 30167 Hannover
END:VEVENT
END:VCALENDAR
