BEGIN:VCALENDAR
VERSION:2.0
PRODID:-//The German Association of Postgraduate Programmes
CALSCALE:GREGORIAN
METHOD:PUBLISH
X-WR-CALNAME:The German Association of Postgraduate Programmes
X-ORIGINAL-URL:https://agep-info.de/event/agep-reintegration-course/
X-WR-CALDESC:AGEP Reintegration-Course
BEGIN:VEVENT
DTSTART:20180202T000000
DTEND:20180204T000000
SUMMARY:AGEP Reintegration-Course
DESCRIPTION:
LOCATION:Gustav-Stresemann-Institut, Langer Grabenweg 68, 53175 Bonn
END:VEVENT
END:VCALENDAR
