BEGIN:VCALENDAR
VERSION:2.0
PRODID:-//The German Association of Postgraduate Programmes
CALSCALE:GREGORIAN
METHOD:PUBLISH
X-WR-CALNAME:The German Association of Postgraduate Programmes
X-ORIGINAL-URL:https://agep-info.de/event/agep-webinar-violence-prevention-through-urban-upgrading/
X-WR-CALDESC:AGEP Webinar &#8220;Violence Prevention through Urban Upgrading&#8221;
BEGIN:VEVENT
DTSTART:20170623T020000
DTEND:20170623T033000
SUMMARY:AGEP Webinar &#8220;Violence Prevention through Urban Upgrading&#8221;
DESCRIPTION:
LOCATION:
END:VEVENT
END:VCALENDAR
