BEGIN:VCALENDAR
VERSION:2.0
PRODID:-//The German Association of Postgraduate Programmes
CALSCALE:GREGORIAN
METHOD:PUBLISH
X-WR-CALNAME:The German Association of Postgraduate Programmes
X-ORIGINAL-URL:https://agep-info.de/event/international-alumni-project-seminar-eco-tourism-and-sustainable-development/
X-WR-CALDESC:International Alumni Project Seminar: Eco-Tourism and Sustainable Development
BEGIN:VEVENT
DTSTART:20171007T000000
DTEND:20171017T000000
SUMMARY:International Alumni Project Seminar: Eco-Tourism and Sustainable Development
DESCRIPTION:
LOCATION:Kathmandu, Nepal
END:VEVENT
END:VCALENDAR
