BEGIN:VCALENDAR
VERSION:2.0
PRODID:-//The German Association of Postgraduate Programmes
CALSCALE:GREGORIAN
METHOD:PUBLISH
X-WR-CALNAME:The German Association of Postgraduate Programmes
X-ORIGINAL-URL:https://agep-info.de/event/agep-business-start-up-clinic-launched/
X-WR-CALDESC:AGEP-Business Start-Up Clinic launched
BEGIN:VEVENT
DTSTART:20160701T000000
DTEND:20160703T000000
SUMMARY:AGEP-Business Start-Up Clinic launched
DESCRIPTION:
LOCATION:Universität Leipzig, Ritterstr. 9-13, 04109 Leipzig
END:VEVENT
END:VCALENDAR
