BEGIN:VCALENDAR
VERSION:2.0
PRODID:-//The German Association of Postgraduate Programmes
CALSCALE:GREGORIAN
METHOD:PUBLISH
X-WR-CALNAME:The German Association of Postgraduate Programmes
X-ORIGINAL-URL:https://agep-info.de/event/agep-workshop-reintegration-into-domestic-job-markets-kenya/
X-WR-CALDESC:AGEP-Workshop &#8220;Reintegration into domestic Job markets &#8211; Kenya&#8221;
BEGIN:VEVENT
DTSTART:20150605T000000
DTEND:20150606T000000
SUMMARY:AGEP-Workshop &#8220;Reintegration into domestic Job markets &#8211; Kenya&#8221;
DESCRIPTION:
LOCATION:Fairview Hotel, Bishop Road, Nairobi, Kenia 
END:VEVENT
END:VCALENDAR
