BEGIN:VCALENDAR
VERSION:2.0
PRODID:-//The German Association of Postgraduate Programmes
CALSCALE:GREGORIAN
METHOD:PUBLISH
X-WR-CALNAME:The German Association of Postgraduate Programmes
X-ORIGINAL-URL:https://agep-info.de/event/4th-phd-conference-on-international-development-at-the-ruhr-university-bochum/
X-WR-CALDESC:4th PhD Conference on International Development at the Ruhr-University Bochum
BEGIN:VEVENT
DTSTART:20150924T000000
DTEND:20150925T000000
SUMMARY:4th PhD Conference on International Development at the Ruhr-University Bochum
DESCRIPTION:
LOCATION:Ruhr-Universität Bochum, Universitätsstraße 150, 44801 Bochum
END:VEVENT
END:VCALENDAR
