BEGIN:VCALENDAR
VERSION:2.0
PRODID:-//The German Association of Postgraduate Programmes
CALSCALE:GREGORIAN
METHOD:PUBLISH
X-WR-CALNAME:The German Association of Postgraduate Programmes
X-ORIGINAL-URL:https://agep-info.de/event/deutsche-welle-media-dialogue-2014-kenya/
X-WR-CALDESC:Deutsche Welle Media Dialogue 2014 &#8211; Kenya
BEGIN:VEVENT
DTSTART:20140521T000000
DTEND:20140521T000000
SUMMARY:Deutsche Welle Media Dialogue 2014 &#8211; Kenya
DESCRIPTION:
LOCATION:Deutsche Welle, Kurt-Schumacher-Straße 3,  53113 Bonn
END:VEVENT
END:VCALENDAR
