BEGIN:VCALENDAR
VERSION:2.0
PRODID:-//The German Association of Postgraduate Programmes
CALSCALE:GREGORIAN
METHOD:PUBLISH
X-WR-CALNAME:The German Association of Postgraduate Programmes
X-ORIGINAL-URL:https://agep-info.de/event/summer-school-on-innovation-management/
X-WR-CALDESC:Summer-School on Innovation Management
BEGIN:VEVENT
DTSTART:20140721T000000
DTEND:20140726T000000
SUMMARY:Summer-School on Innovation Management
DESCRIPTION:
LOCATION:Universität Leipzig, Ritterstr. 9-13, 04109 Leipzig
END:VEVENT
END:VCALENDAR
